Workbook

Sheet Приложение1
P1: Приложение 1
P2: к постановлению
P3: Администрации ЗАТО Северск
P4: от _23.12.2025__№ _3081-па__
P6: "УТВЕРЖДЕН
P8: постановлением
P9: Администрации ЗАТО Северск
P10: от 16.08.2024 № 2779-па
A12: ПЕРЕЧЕНЬ
A13: многоквартирных домов ЗАТО Северск, включенных в краткосрочный план реализации в 2026 - 2028 годах Региональной программы капитального ремонта общего имущества в многоквартирных домах,
A14: расположенных на территории Томской области
A16: № п/п | B16: Код МКД | C16: Адрес МКД | D16: Год ввода в эксплуата-цию | E16: Вид элемента строительных конструкций, оборудования, инженерных систем <1> | F16: Вид работы (услуги) по капитальному ремонту <2> | G16: Общая площадь МКД, всего | H16: Площадь помещений в МКД | I16: Количество жителей, зарегистрированных в МКД на дату утверждения краткосрочного плана | J16: Стоимость капитального ремонта | P16: Удельная стоимость капитального ремонта 1 кв.м общей площади помещений МКД | Q16: Предельная стоимость капитального ремонта 1 кв.м общей площади помещений МКД | R16: Плановая дата завершения работ | S16: Способ формирования фонда капитального ремонта многоквартирного дома <3>
J17: всего | K17: в том числе
K18: за счет средств Фонда | L18: за счет средств бюджета субъекта Российской Федерации | M18: за счет средств местного бюджета | N18: за счет средств собственников помещений в МКД | O18: за счет других не запрещенных законом источников
G19: кв.м | H19: кв.м | I19: чел. | J19: руб. | K19: руб. | L19: руб. | M19: руб. | N19: руб. | O19: руб. | P19: руб./кв.м | Q19: руб./кв.м
A20: 1 | B20: =A20+1 -> 2 | C20: =B20+1 -> 3 | D20: =C20+1 -> 4 | E20: =D20+1 -> 5 | F20: =E20+1 -> 6 | G20: =F20+1 -> 7 | H20: =G20+1 -> 8 | I20: =H20+1 -> 9 | ... S20: =R20+1 -> 19
A21: Итого по городскому округу ЗАТО Северск | D21: Х | E21: Х | F21: Х | G21: =G22+G47+G79 -> 323992.15 | H21: =H22+H47+H79 -> 237304.48 | I21: =I22+I47+I79 -> 8675 | J21: =J22+J47+J79 -> 9.2661888e+08 | K21: =K22+K47+K79 -> 0 | L21: =L22+L47+L79 -> 0 | M21: =M22+M47+M79 -> 0 | N21: =N22+N47+N79 -> 9.0748615e+08 | O21: =O22+O47+O79 -> 19132728 | P21: Х | Q21: Х | R21: Х | S21: Х
A22: 2026 год | E22: Х | F22: Х | G22: =SUM(G23:G46) -> 128977.65 | H22: =SUM(H23:H46) -> 98072.5 | I22: =SUM(I23:I46) -> 3442 | J22: =SUM(J23:J46) -> 2.0182399e+08 | K22: =SUM(K23:K46) -> 0 | L22: =SUM(L23:L46) -> 0 | M22: =SUM(M23:M46) -> 0 | N22: =SUM(N23:N46) -> 1.8269126e+08 | O22: =SUM(O23:O46) -> 19132728 | P22: Х | Q22: Х | R22: Х | S22: Х
A23: 1 | B23: 6042 | C23: г. Северск, пр-кт Коммунистический, д. 117 | D23: 1970 | E23: К | F23: СМР | G23: 3337.48 | H23: 2601 | I23: 100 | J23: =Приложение2!I23 -> 10557459 | K23: 0 | L23: 0 | M23: 0 | N23: =J23-K23-L23-M23-O23 -> 9556621.6 | O23: 1000837.4 | P23: =J23/H23 -> 4059 | Q23: =Приложение2!K23 -> 4059 | R23: 2026 | S23: 1
A24: =A23+1 -> 2 | B24: 6064 | C24: г. Северск, пр-кт Коммунистический, д. 161 | D24: 2000 | E24: ЛО | F24: ПСД, СМР | G24: 22476.3 | H24: 18135.1 | I24: 676 | J24: =Приложение2!I26 -> 10658254 | K24: 0 | L24: 0 | M24: 0 | N24: =J24-K24-L24-M24-O24 -> 9647861.3 | O24: 1010392.7 | P24: =J24/H24 -> 587.71 | Q24: =Приложение2!K26 -> 587.71 | R24: 2026 | S24: 1
A25: =A24+1 -> 3 | B25: 5839 | C25: г. Северск, ул. 40 лет Октября, д. 14 | D25: 1960 | E25: ТС ХВС ГВС | F25: ПСД | G25: 2138 | H25: 1239.1 | I25: 47 | J25: =Приложение2!I33 -> 776915.7 | K25: 0 | L25: 0 | M25: 0 | N25: =J25-K25-L25-M25-O25 -> 703264.81 | O25: 73650.89 | P25: =J25/H25 -> 627 | Q25: =Приложение2!K33 -> 627 | R25: 2026 | S25: 1
A26: =A25+1 -> 4 | B26: 5863 | C26: г. Северск, ул. Калинина, д. 2 | D26: 1959 | E26: ТС ХВС ГВС | F26: СМР | G26: 3007.1 | H26: 2020.2 | I26: 76 | J26: =Приложение2!I37 -> 23260583 | K26: 0 | L26: 0 | M26: 0 | N26: =J26-K26-L26-M26-O26 -> 21055501 | O26: 2205081.8 | P26: =J26/H26 -> 11514 | Q26: =Приложение2!K37 -> 11514 | R26: 2026 | S26: 1
A27: =A26+1 -> 5 | B27: 5870 | C27: г. Северск, ул. Калинина, д. 18 | D27: 1957 | E27: К | F27: ПСД | G27: 3421 | H27: 2339.2 | I27: 96 | J27: =Приложение2!I44 -> 1136851.2 | K27: 0 | L27: 0 | M27: 0 | N27: =J27-K27-L27-M27-O27 -> 1029078.8 | O27: 107772.45 | P27: =J27/H27 -> 486 | Q27: =Приложение2!K44 -> 486 | R27: 2026 | S27: 1
A28: =A27+1 -> 6 | B28: 5900 | C28: г. Северск, ул. Калинина, д. 64 | D28: 1967 | E28: ТС ХВС ГВС | F28: ПСД | G28: 7762 | H28: 4773.5 | I28: 180 | J28: =Приложение2!I46 -> 1637310.5 | K28: 0 | L28: 0 | M28: 0 | N28: =J28-K28-L28-M28-O28 -> 1482095 | O28: 155215.53 | P28: =J28/H28 -> 343 | Q28: =Приложение2!K46 -> 343 | R28: 2026 | S28: 1
A29: =A28+1 -> 7 | B29: 5901 | C29: г. Северск, ул. Калинина, д. 66 | D29: 1967 | E29: ТС ХВС ГВС | F29: ПСД | G29: 4053.1 | H29: 2557.1 | I29: 97 | J29: =Приложение2!I50 -> 1603301.7 | K29: 0 | L29: 0 | M29: 0 | N29: =J29-K29-L29-M29-O29 -> 1451310.2 | O29: 151991.53 | P29: =J29/H29 -> 627 | Q29: =Приложение2!K50 -> 627 | R29: 2026 | S29: 1
A30: =A29+1 -> 8 | B30: 5903 | C30: г. Северск, ул. Калинина, д. 70 | D30: 1974 | E30: К | F30: ПСД | G30: 3555.4 | H30: 2682.4 | I30: 101 | J30: =Приложение2!I54 -> 1300964 | K30: 0 | L30: 0 | M30: 0 | N30: =J30-K30-L30-M30-O30 -> 1177633.8 | O30: 123330.19 | P30: =J30/H30 -> 485 | Q30: =Приложение2!K54 -> 485 | R30: 2026 | S30: 1
A31: =A30+1 -> 9 | B31: 5906 | C31: г. Северск, ул. Калинина, д. 74 | D31: 1974 | E31: К | F31: ПСД | G31: 3484.3 | H31: 2667.3 | I31: 101 | J31: =Приложение2!I56 -> 1293640.5 | K31: 0 | L31: 0 | M31: 0 | N31: =J31-K31-L31-M31-O31 -> 1171004.6 | O31: 122635.93 | P31: =J31/H31 -> 485 | Q31: =Приложение2!K56 -> 485 | R31: 2026 | S31: 1
A32: =A31+1 -> 10 | B32: 5915 | C32: г. Северск, ул. Калинина, д. 85 | D32: 1967 | E32: ТС ХВС ГВС | F32: ПСД | G32: 6062.5 | H32: 3878 | I32: 147 | J32: =Приложение2!I58 -> 1330154 | K32: 0 | L32: 0 | M32: 0 | N32: =J32-K32-L32-M32-O32 -> 1204056.6 | O32: 126097.37 | P32: =J32/H32 -> 343 | Q32: =Приложение2!K58 -> 343 | R32: 2026 | S32: 1
A33: =A32+1 -> 11 | B33: 6119 | C33: г. Северск, ул. Курчатова, д. 11 | D33: 1971 | E33: ЛО К | F33: СМР | G33: 3202.62 | H33: 2274.5 | I33: 86 | J33: =Приложение2!I62 -> 14488070 | K33: 0 | L33: 0 | M33: 0 | N33: =J33-K33-L33-M33-O33 -> 13114615 | O33: 1373455.8 | P33: =J33/H33 -> 6369.78 | Q33: =Приложение2!K62 -> 6369.78 | R33: 2026 | S33: 1
A34: =A33+1 -> 12 | B34: 6121 | C34: г. Северск, ул. Курчатова, д. 15 | D34: 1971 | E34: ЛО К | F34: ПСД, СМР | G34: 3203.19 | H34: 2561.5 | I34: 86 | J34: =Приложение2!I67 -> 10470380 | K34: 0 | L34: 0 | M34: 0 | N34: =J34-K34-L34-M34-O34 -> 9477798.1 | O34: 992582.43 | P34: =J34/H34 -> 4087.6 | Q34: =Приложение2!K67 -> 4087.6 | R34: 2026 | S34: 1
A35: =A34+1 -> 13 | B35: 6128 | C35: г. Северск, ул. Курчатова, д. 26 | D35: 1974 | E35: ЛО | F35: ПСД | G35: 2658.6 | H35: 1899.3 | I35: 72 | J35: =Приложение2!I71 -> 73252 | K35: 0 | L35: 0 | M35: 0 | N35: =J35-K35-L35-M35-O35 -> 66307.78 | O35: 6944.22 | P35: =J35/H35 -> 38.57 | Q35: =Приложение2!K71 -> 38.57 | R35: 2026 | S35: 1
A36: =A35+1 -> 14 | B36: 6135 | C36: г. Северск, ул. Курчатова, д. 38 | D36: 1974 | E36: К | F36: ПСД | G36: 3562.8 | H36: 2687.8 | I36: 102 | J36: =Приложение2!I73 -> 1303583 | K36: 0 | L36: 0 | M36: 0 | N36: =J36-K36-L36-M36-O36 -> 1180004.5 | O36: 123578.47 | P36: =J36/H36 -> 485 | Q36: =Приложение2!K73 -> 485 | R36: 2026 | S36: 1
A37: =A36+1 -> 15 | B37: 6156 | C37: г. Северск, ул. Ленина, д. 44 | D37: 1960 | E37: К | F37: ПСД | G37: 4993.5 | H37: 3654.5 | I37: 135 | J37: =Приложение2!I75 -> 895352.5 | K37: 0 | L37: 0 | M37: 0 | N37: =J37-K37-L37-M37-O37 -> 810473.91 | O37: 84878.59 | P37: =J37/H37 -> 245 | Q37: =Приложение2!K75 -> 245 | R37: 2026 | S37: 1
A38: =A37+1 -> 16 | B38: 6238 | C38: г. Северск, ул. Мира, д. 3 | D38: 1953 | E38: К НОК | F38: СМР | G38: 958.5 | H38: 888.3 | I38: 34 | J38: =Приложение2!I77 -> 40959513 | K38: 0 | L38: 0 | M38: 0 | N38: =J38-K38-L38-M38-O38 -> 37076589 | O38: 3882924.1 | P38: =J38/H38 -> 46110 | Q38: =Приложение2!K77 -> 46110 | R38: 2026 | S38: 1
A39: =A38+1 -> 17 | B39: 6326 | C39: г. Северск, ул. Победы, д. 19 | D39: 2001 | E39: ЛО | F39: СМР | G39: 11961.3 | H39: 9983.1 | I39: 255 | J39: =Приложение2!I82 -> 21023500 | K39: 0 | L39: 0 | M39: 0 | N39: =J39-K39-L39-M39-O39 -> 19030492 | O39: 1993008.4 | P39: =J39/H39 -> 2105.91 | Q39: =Приложение2!K82 -> 2126.99 | R39: 2026 | S39: 1
A40: =A39+1 -> 18 | B40: 6333 | C40: г. Северск, ул. Победы, д. 31 | D40: 2002 | E40: ЛО | F40: ПСД | G40: 5132.2 | H40: 4930.1 | I40: 136 | J40: =Приложение2!I91 -> 146504 | K40: 0 | L40: 0 | M40: 0 | N40: =J40-K40-L40-M40-O40 -> 132615.56 | O40: 13888.44 | P40: =J40/H40 -> 29.72 | Q40: =Приложение2!K91 -> 29.72 | R40: 2026 | S40: 1
A41: =A40+1 -> 19 | B41: 6338 | C41: г. Северск, ул. Победы, д. 39 | D41: 2001 | E41: ЛО | F41: СМР | G41: 11729.2 | H41: 10696.7 | I41: 325 | J41: =Приложение2!I94 -> 11578672 | K41: 0 | L41: 0 | M41: 0 | N41: =J41-K41-L41-M41-O41 -> 10481025 | O41: 1097647.4 | P41: =J41/H41 -> 1082.45 | Q41: =Приложение2!K94 -> 1082.45 | R41: 2026 | S41: 1
A42: =A41+1 -> 20 | B42: 6391 | C42: г. Северск, ул. Советская, д. 17 | D42: 1958 | E42: ТС ХВС ГВС | F42: ПСД | G42: 4179 | H42: 2307.3 | I42: 87 | J42: =Приложение2!I99 -> 1446677.1 | K42: 0 | L42: 0 | M42: 0 | N42: =J42-K42-L42-M42-O42 -> 1309533.4 | O42: 137143.66 | P42: =J42/H42 -> 627 | Q42: =Приложение2!K99 -> 627 | R42: 2026 | S42: 1
A43: =A42+1 -> 21 | B43: 6393 | C43: г. Северск, ул. Советская, д. 19 | D43: 1960 | E43: ТС ХВС ГВС | F43: ПСД | G43: 4953 | H43: 3135.7 | I43: 118 | J43: =Приложение2!I103 -> 1075545.1 | K43: 0 | L43: 0 | M43: 0 | N43: =J43-K43-L43-M43-O43 -> 973584.41 | O43: 101960.69 | P43: =J43/H43 -> 343 | Q43: =Приложение2!K103 -> 343 | R43: 2026 | S43: 1
A44: =A43+1 -> 22 | B44: 6411 | C44: г. Северск, ул. Солнечная, д. 11 | D44: 1972, 1973 | E44: ЛО | F44: СМР | G44: 9922.16 | H44: 7410.6 | I44: 275 | J44: =Приложение2!I107 -> 5255875 | K44: 0 | L44: 0 | M44: 0 | N44: =J44-K44-L44-M44-O44 -> 4757622.9 | O44: 498252.11 | P44: =J44/H44 -> 709.24 | Q44: =Приложение2!K107 -> 709.24 | R44: 2026 | S44: 1
A45: =A44+1 -> 23 | B45: 6448 | C45: г. Северск, ул. Транспортная, д. 4 | D45: 1957 | E45: К | F45: СМР | G45: 2699.3 | H45: 2272 | I45: 86 | J45: =Приложение2!I110 -> 39291968 | K45: 0 | L45: 0 | M45: 0 | N45: =J45-K45-L45-M45-O45 -> 35567126 | O45: 3724842.4 | P45: =J45/H45 -> 17294 | Q45: =Приложение2!K110 -> 17294 | R45: 2026 | S45: 1
A46: =A45+1 -> 24 | B46: 6525 | C46: п. Самусь, ул. Ленина, д. 22а | D46: 1953 | E46: ТС ГВС | F46: ПСД | G46: 525.1 | H46: 478.2 | I46: 24 | J46: =Приложение2!I113 -> 259662.6 | K46: 0 | L46: 0 | M46: 0 | N46: =J46-K46-L46-M46-O46 -> 235046.82 | O46: 24615.78 | P46: =J46/H46 -> 543 | Q46: =Приложение2!K113 -> 543 | R46: 2026 | S46: 1
A47: 2027 год | E47: Х | F47: Х | G47: =SUM(G48:G78) -> 138819.97 | H47: =SUM(H48:H78) -> 99785.04 | I47: =SUM(I48:I78) -> 3727 | J47: =SUM(J48:J78) -> 3.8712002e+08 | K47: =SUM(K48:K78) -> 0 | L47: =SUM(L48:L78) -> 0 | M47: =SUM(M48:M78) -> 0 | N47: =SUM(N48:N78) -> 3.8712002e+08 | O47: =SUM(O48:O78) -> 0 | P47: Х | Q47: Х | R47: Х | S47: Х
A48: 1 | B48: 5993 | C48: г. Северск, пр-кт Коммунистический, д. 50 | D48: 1968 | E48: К | F48: ПСД | G48: 2982 | H48: 2444.7 | I48: 91 | J48: =Приложение2!I118 -> 586728 | K48: 0 | L48: 0 | M48: 0 | N48: =J48-K48-L48-M48-O48 -> 586728 | O48: 0 | P48: =J48/H48 -> 240 | Q48: =Приложение2!K118 -> 240 | R48: 2027 | S48: 1
A49: =A48+1 -> 2 | B49: 6033 | C49: г. Северск, пр-кт Коммунистический, д. 100 | D49: 1971 | E49: ЛО | F49: ПСД | G49: 14549.38 | H49: 10846.3 | I49: 402 | J49: =Приложение2!I120 -> 146504 | K49: 0 | L49: 0 | M49: 0 | N49: =J49-K49-L49-M49-O49 -> 146504 | O49: 0 | P49: =J49/H49 -> 13.51 | Q49: =Приложение2!K120 -> 13.51 | R49: 2027 | S49: 1
A50: =A49+1 -> 3 | B50: 6037 | C50: г. Северск, пр-кт Коммунистический, д. 108 | D50: 1972 | E50: ЛО | F50: ПСД | G50: 9738.55 | H50: 7323.74 | I50: 271 | J50: =Приложение2!I123 -> 293008 | K50: 0 | L50: 0 | M50: 0 | N50: =J50-K50-L50-M50-O50 -> 293008 | O50: 0 | P50: =J50/H50 -> 40.01 | Q50: =Приложение2!K123 -> 40.01 | R50: 2027 | S50: 1
A51: =A50+1 -> 4 | B51: 6064 | C51: г. Северск, пр-кт Коммунистический, д. 161 | D51: 2000 | E51: ЛО | F51: СМР | G51: 22476.3 | H51: 18135.1 | I51: 676 | J51: =Приложение2!I128 -> 10511750 | K51: 0 | L51: 0 | M51: 0 | N51: =J51-K51-L51-M51-O51 -> 10511750 | O51: 0 | P51: =J51/H51 -> 579.64 | Q51: =Приложение2!K128 -> 579.64 | R51: 2027 | S51: 1
A52: =A51+1 -> 5 | B52: 5839 | C52: г. Северск, ул. 40 лет Октября, д. 14 | D52: 1960 | E52: ТС ХВС ГВС | F52: СМР | G52: 2138 | H52: 1239.1 | I52: 47 | J52: =Приложение2!I133 -> 14266997 | K52: 0 | L52: 0 | M52: 0 | N52: =J52-K52-L52-M52-O52 -> 14266997 | O52: 0 | P52: =J52/H52 -> 11514 | Q52: =Приложение2!K133 -> 11514 | R52: 2027 | S52: 1
A53: =A52+1 -> 6 | B53: 5870 | C53: г. Северск, ул. Калинина, д. 18 | D53: 1957 | E53: К | F53: СМР | G53: 3421 | H53: 2339.2 | I53: 96 | J53: =Приложение2!I140 -> 40454125 | K53: 0 | L53: 0 | M53: 0 | N53: =J53-K53-L53-M53-O53 -> 40454125 | O53: 0 | P53: =J53/H53 -> 17294 | Q53: =Приложение2!K140 -> 17294 | R53: 2027 | S53: 1
A54: =A53+1 -> 7 | B54: 5874 | C54: г. Северск, ул. Калинина, д. 27 | D54: 1957 | E54: ТС ХВС ГВС | F54: ПСД | G54: 4065 | H54: 2947.8 | I54: 114 | J54: =Приложение2!I143 -> 1011095.4 | K54: 0 | L54: 0 | M54: 0 | N54: =J54-K54-L54-M54-O54 -> 1011095.4 | O54: 0 | P54: =J54/H54 -> 343 | Q54: =Приложение2!K143 -> 343 | R54: 2027 | S54: 1
A55: =A54+1 -> 8 | B55: 5900 | C55: г. Северск, ул. Калинина, д. 64 | D55: 1967 | E55: ТС ХВС ГВС | F55: СМР | G55: 7762 | H55: 4773.5 | I55: 180 | J55: =Приложение2!I147 -> 38889704 | K55: 0 | L55: 0 | M55: 0 | N55: =J55-K55-L55-M55-O55 -> 38889704 | O55: 0 | P55: =J55/H55 -> 8147 | Q55: =Приложение2!K147 -> 8147 | R55: 2027 | S55: 1
A56: =A55+1 -> 9 | B56: 5901 | C56: г. Северск, ул. Калинина, д. 66 | D56: 1967 | E56: ТС ХВС ГВС | F56: СМР | G56: 4053.1 | H56: 2557.1 | I56: 97 | J56: =Приложение2!I154 -> 29442449 | K56: 0 | L56: 0 | M56: 0 | N56: =J56-K56-L56-M56-O56 -> 29442449 | O56: 0 | P56: =J56/H56 -> 11514 | Q56: =Приложение2!K154 -> 11514 | R56: 2027 | S56: 1
A57: =A56+1 -> 10 | B57: 5903 | C57: г. Северск, ул. Калинина, д. 70 | D57: 1974 | E57: К | F57: СМР | G57: 3555.4 | H57: 2682.4 | I57: 101 | J57: =Приложение2!I161 -> 30383545 | K57: 0 | L57: 0 | M57: 0 | N57: =J57-K57-L57-M57-O57 -> 30383545 | O57: 0 | P57: =J57/H57 -> 11327 | Q57: =Приложение2!K161 -> 11327 | R57: 2027 | S57: 1
A58: =A57+1 -> 11 | B58: 5906 | C58: г. Северск, ул. Калинина, д. 74 | D58: 1974 | E58: К | F58: СМР | G58: 3484.3 | H58: 2667.3 | I58: 101 | J58: =Приложение2!I164 -> 30212507 | K58: 0 | L58: 0 | M58: 0 | N58: =J58-K58-L58-M58-O58 -> 30212507 | O58: 0 | P58: =J58/H58 -> 11327 | Q58: =Приложение2!K164 -> 11327 | R58: 2027 | S58: 1
A59: =A58+1 -> 12 | B59: 5915 | C59: г. Северск, ул. Калинина, д. 85 | D59: 1967 | E59: ТС ХВС ГВС | F59: СМР | G59: 6062.5 | H59: 3878 | I59: 147 | J59: =Приложение2!I167 -> 31594066 | K59: 0 | L59: 0 | M59: 0 | N59: =J59-K59-L59-M59-O59 -> 31594066 | O59: 0 | P59: =J59/H59 -> 8147 | Q59: =Приложение2!K167 -> 8147 | R59: 2027 | S59: 1
A60: =A59+1 -> 13 | B60: 6121 | C60: г. Северск, ул. Курчатова, д. 15 | D60: 1971 | E60: ЛО | F60: СМР | G60: 3203.19 | H60: 2561.5 | I60: 86 | J60: =Приложение2!I174 -> 5255875 | K60: 0 | L60: 0 | M60: 0 | N60: =J60-K60-L60-M60-O60 -> 5255875 | O60: 0 | P60: =J60/H60 -> 2051.87 | Q60: =Приложение2!K174 -> 2051.87 | R60: 2027 | S60: 1
A61: =A60+1 -> 14 | B61: 6124 | C61: г. Северск, ул. Курчатова, д. 19 | D61: 1970 | E61: К | F61: ПСД | G61: 2962.9 | H61: 2318.6 | I61: 88 | J61: =Приложение2!I177 -> 556464 | K61: 0 | L61: 0 | M61: 0 | N61: =J61-K61-L61-M61-O61 -> 556464 | O61: 0 | P61: =J61/H61 -> 240 | Q61: =Приложение2!K177 -> 240 | R61: 2027 | S61: 1
A62: =A61+1 -> 15 | B62: 6128 | C62: г. Северск, ул. Курчатова, д. 26 | D62: 1974 | E62: ЛО | F62: СМР | G62: 2658.6 | H62: 1899.3 | I62: 72 | J62: =Приложение2!I179 -> 5255875 | K62: 0 | L62: 0 | M62: 0 | N62: =J62-K62-L62-M62-O62 -> 5255875 | O62: 0 | P62: =J62/H62 -> 2767.27 | Q62: =Приложение2!K179 -> 2767.27 | R62: 2027 | S62: 1
A63: =A62+1 -> 16 | B63: 6135 | C63: г. Северск, ул. Курчатова, д. 38 | D63: 1974 | E63: К | F63: СМР | G63: 3562.8 | H63: 2687.8 | I63: 102 | J63: =Приложение2!I182 -> 30444711 | K63: 0 | L63: 0 | M63: 0 | N63: =J63-K63-L63-M63-O63 -> 30444711 | O63: 0 | P63: =J63/H63 -> 11327 | Q63: =Приложение2!K182 -> 11327 | R63: 2027 | S63: 1
A64: =A63+1 -> 17 | B64: 6156 | C64: г. Северск, ул. Ленина, д. 44 | D64: 1960 | E64: К | F64: СМР | G64: 4993.5 | H64: 3654.5 | I64: 135 | J64: =Приложение2!I185 -> 35364596 | K64: 0 | L64: 0 | M64: 0 | N64: =J64-K64-L64-M64-O64 -> 35364596 | O64: 0 | P64: =J64/H64 -> 9677 | Q64: =Приложение2!K185 -> 9677 | R64: 2027 | S64: 1
A65: =A64+1 -> 18 | B65: 6257 | C65: г. Северск, ул. Мира, д. 22 | D65: 1955 | E65: К НОК | F65: ПСД | G65: 1527.2 | H65: 897.2 | I65: 34 | J65: =Приложение2!I188 -> 1111630.8 | K65: 0 | L65: 0 | M65: 0 | N65: =J65-K65-L65-M65-O65 -> 1111630.8 | O65: 0 | P65: =J65/H65 -> 1239 | Q65: =Приложение2!K188 -> 1239 | R65: 2027 | S65: 1
A66: =A65+1 -> 19 | B66: 6333 | C66: г. Северск, ул. Победы, д. 31 | D66: 2002 | E66: ЛО | F66: СМР | G66: 5132.2 | H66: 4930.1 | I66: 136 | J66: =Приложение2!I191 -> 10422580 | K66: 0 | L66: 0 | M66: 0 | N66: =J66-K66-L66-M66-O66 -> 10422580 | O66: 0 | P66: =J66/H66 -> 2114.07 | Q66: =Приложение2!K191 -> 2114.07 | R66: 2027 | S66: 1
A67: =A66+1 -> 20 | B67: 6391 | C67: г. Северск, ул. Советская, д. 17 | D67: 1958 | E67: ТС ХВС ГВС | F67: СМР | G67: 4179 | H67: 2307.3 | I67: 87 | J67: =Приложение2!I196 -> 26566252 | K67: 0 | L67: 0 | M67: 0 | N67: =J67-K67-L67-M67-O67 -> 26566252 | O67: 0 | P67: =J67/H67 -> 11514 | Q67: =Приложение2!K196 -> 11514 | R67: 2027 | S67: 1
A68: =A67+1 -> 21 | B68: 6393 | C68: г. Северск, ул. Советская, д. 19 | D68: 1960 | E68: ТС ХВС ГВС | F68: СМР | G68: 4953 | H68: 3135.7 | I68: 118 | J68: =Приложение2!I203 -> 25546548 | K68: 0 | L68: 0 | M68: 0 | N68: =J68-K68-L68-M68-O68 -> 25546548 | O68: 0 | P68: =J68/H68 -> 8147 | Q68: =Приложение2!K203 -> 8147 | R68: 2027 | S68: 1
A69: =A68+1 -> 22 | B69: 6454 | C69: г. Северск, ул. Транспортная, д. 20 | D69: 1974 | E69: К | F69: ПСД | G69: 4397 | H69: 2677.8 | I69: 123 | J69: =Приложение2!I210 -> 1298733 | K69: 0 | L69: 0 | M69: 0 | N69: =J69-K69-L69-M69-O69 -> 1298733 | O69: 0 | P69: =J69/H69 -> 485 | Q69: =Приложение2!K210 -> 485 | R69: 2027 | S69: 1
A70: =A69+1 -> 23 | B70: 6455 | C70: г. Северск, ул. Транспортная, д. 22 | D70: 1974 | E70: К | F70: ПСД | G70: 4312 | H70: 2656.7 | I70: 102 | J70: =Приложение2!I212 -> 1288499.5 | K70: 0 | L70: 0 | M70: 0 | N70: =J70-K70-L70-M70-O70 -> 1288499.5 | O70: 0 | P70: =J70/H70 -> 485 | Q70: =Приложение2!K212 -> 485 | R70: 2027 | S70: 1
A71: =A70+1 -> 24 | B71: 6456 | C71: г. Северск, ул. Транспортная, д. 24 | D71: 1974 | E71: К | F71: ПСД | G71: 4410 | H71: 2692.3 | I71: 102 | J71: =Приложение2!I214 -> 1305765.5 | K71: 0 | L71: 0 | M71: 0 | N71: =J71-K71-L71-M71-O71 -> 1305765.5 | O71: 0 | P71: =J71/H71 -> 485 | Q71: =Приложение2!K214 -> 485 | R71: 2027 | S71: 1
A72: =A71+1 -> 25 | B72: 6457 | C72: г. Северск, ул. Транспортная, д. 26 | D72: 1974 | E72: К | F72: ПСД | G72: 4111 | H72: 2686.9 | I72: 102 | J72: =Приложение2!I216 -> 1303146.5 | K72: 0 | L72: 0 | M72: 0 | N72: =J72-K72-L72-M72-O72 -> 1303146.5 | O72: 0 | P72: =J72/H72 -> 485 | Q72: =Приложение2!K216 -> 485 | R72: 2027 | S72: 1
A73: =A72+1 -> 26 | B73: 6466 | C73: г. Северск, ул. Транспортная, д. 66 | D73: 1955 | E73: К НОК | F73: ПСД | G73: 897 | H73: 520 | I73: 20 | J73: =Приложение2!I218 -> 644280 | K73: 0 | L73: 0 | M73: 0 | N73: =J73-K73-L73-M73-O73 -> 644280 | O73: 0 | P73: =J73/H73 -> 1239 | Q73: =Приложение2!K218 -> 1239 | R73: 2027 | S73: 1
A74: =A73+1 -> 27 | B74: 6467 | C74: г. Северск, ул. Транспортная, д. 70 | D74: 1955 | E74: К НОК | F74: ПСД | G74: 899 | H74: 520.9 | I74: 21 | J74: =Приложение2!I221 -> 645395.1 | K74: 0 | L74: 0 | M74: 0 | N74: =J74-K74-L74-M74-O74 -> 645395.1 | O74: 0 | P74: =J74/H74 -> 1239 | Q74: =Приложение2!K221 -> 1239 | R74: 2027 | S74: 1
A75: =A74+1 -> 28 | B75: 6468 | C75: г. Северск, ул. Транспортная, д. 72 | D75: 1955 | E75: К НОК | F75: ПСД | G75: 891.8 | H75: 516.5 | I75: 21 | J75: =Приложение2!I224 -> 639943.5 | K75: 0 | L75: 0 | M75: 0 | N75: =J75-K75-L75-M75-O75 -> 639943.5 | O75: 0 | P75: =J75/H75 -> 1239 | Q75: =Приложение2!K224 -> 1239 | R75: 2027 | S75: 1
A76: =A75+1 -> 29 | B76: 6628 | C76: п. Самусь, ул. Кирова, д. 5 | D76: 1928 | E76: К НОК | F76: ПСД | G76: 451.7 | H76: 397.5 | I76: 15 | J76: =Приложение2!I227 -> 492502.5 | K76: 0 | L76: 0 | M76: 0 | N76: =J76-K76-L76-M76-O76 -> 492502.5 | O76: 0 | P76: =J76/H76 -> 1239 | Q76: =Приложение2!K227 -> 1239 | R76: 2027 | S76: 1
A77: =A76+1 -> 30 | B77: 6525 | C77: п. Самусь, ул. Ленина, д. 22а | D77: 1953 | E77: ТС ГВС | F77: СМР | G77: 525.1 | H77: 478.2 | I77: 24 | J77: =Приложение2!I230 -> 5489257.8 | K77: 0 | L77: 0 | M77: 0 | N77: =J77-K77-L77-M77-O77 -> 5489257.8 | O77: 0 | P77: =J77/H77 -> 11479 | Q77: =Приложение2!K230 -> 11479 | R77: 2027 | S77: 1
A78: =A77+1 -> 31 | B78: 6538 | C78: п. Самусь, ул. Пекарского, д. 20 | D78: 1926 | E78: ТС ХВС ГВС | F78: СМР | G78: 465.45 | H78: 412 | I78: 16 | J78: =Приложение2!I235 -> 5695488 | K78: 0 | L78: 0 | M78: 0 | N78: =J78-K78-L78-M78-O78 -> 5695488 | O78: 0 | P78: =J78/H78 -> 13824 | Q78: =Приложение2!K235 -> 13824 | R78: 2027 | S78: 1
A79: 2028 год | E79: Х | F79: Х | G79: =SUM(G80:G93) -> 56194.53 | H79: =SUM(H80:H93) -> 39446.94 | I79: =SUM(I80:I93) -> 1506 | J79: =SUM(J80:J93) -> 3.3767486e+08 | K79: =SUM(K80:K93) -> 0 | L79: =SUM(L80:L93) -> 0 | M79: =SUM(M80:M93) -> 0 | N79: =SUM(N80:N93) -> 3.3767486e+08 | O79: =SUM(O80:O93) -> 0 | P79: Х | Q79: Х | R79: Х | S79: Х
A80: 1 | B80: 5993 | C80: г. Северск, пр-кт Коммунистический, д. 50 | D80: 1968 | E80: К | F80: СМР | G80: 2982 | H80: 2444.7 | I80: 91 | J80: =Приложение2!I244 -> 9923037.3 | K80: 0 | L80: 0 | M80: 0 | N80: =J80-K80-L80-M80-O80 -> 9923037.3 | O80: 0 | P80: =J80/H80 -> 4059 | Q80: =Приложение2!K244 -> 4059 | R80: 2028 | S80: 1
A81: =A80+1 -> 2 | B81: 6033 | C81: г. Северск, пр-кт Коммунистический, д. 100 | D81: 1971 | E81: ЛО | F81: СМР | G81: 14549.38 | H81: 10846.3 | I81: 402 | J81: =Приложение2!I247 -> 10511750 | K81: 0 | L81: 0 | M81: 0 | N81: =J81-K81-L81-M81-O81 -> 10511750 | O81: 0 | P81: =J81/H81 -> 969.16 | Q81: =Приложение2!K247 -> 969.16 | R81: 2028 | S81: 1
A82: =A81+1 -> 3 | B82: 6037 | C82: г. Северск, пр-кт Коммунистический, д. 108 | D82: 1972 | E82: ЛО | F82: СМР | G82: 9738.55 | H82: 7323.74 | I82: 271 | J82: =Приложение2!I252 -> 21023500 | K82: 0 | L82: 0 | M82: 0 | N82: =J82-K82-L82-M82-O82 -> 21023500 | O82: 0 | P82: =J82/H82 -> 2870.6 | Q82: =Приложение2!K252 -> 2870.6 | R82: 2028 | S82: 1
A83: =A82+1 -> 4 | B83: 5874 | C83: г. Северск, ул. Калинина, д. 27 | D83: 1957 | E83: ТС ХВС ГВС | F83: СМР | G83: 4065 | H83: 2947.8 | I83: 114 | J83: =Приложение2!I261 -> 33940969 | K83: 0 | L83: 0 | M83: 0 | N83: =J83-K83-L83-M83-O83 -> 33940969 | O83: 0 | P83: =J83/H83 -> 11514 | Q83: =Приложение2!K261 -> 11514 | R83: 2028 | S83: 1
A84: =A83+1 -> 5 | B84: 6124 | C84: г. Северск, ул. Курчатова, д. 19 | D84: 1970 | E84: К | F84: СМР | G84: 2962.9 | H84: 2318.6 | I84: 88 | J84: =Приложение2!I268 -> 9411197.4 | K84: 0 | L84: 0 | M84: 0 | N84: =J84-K84-L84-M84-O84 -> 9411197.4 | O84: 0 | P84: =J84/H84 -> 4059 | Q84: =Приложение2!K268 -> 4059 | R84: 2028 | S84: 1
A85: =A84+1 -> 6 | B85: 6257 | C85: г. Северск, ул. Мира, д. 22 | D85: 1955 | E85: К НОК | F85: СМР | G85: 1527.2 | H85: 897.2 | I85: 34 | J85: =Приложение2!I271 -> 41369892 | K85: 0 | L85: 0 | M85: 0 | N85: =J85-K85-L85-M85-O85 -> 41369892 | O85: 0 | P85: =J85/H85 -> 46110 | Q85: =Приложение2!K271 -> 46110 | R85: 2028 | S85: 1
A86: =A85+1 -> 7 | B86: 6454 | C86: г. Северск, ул. Транспортная, д. 20 | D86: 1974 | E86: К | F86: СМР | G86: 4397 | H86: 2677.8 | I86: 123 | J86: =Приложение2!I276 -> 30331441 | K86: 0 | L86: 0 | M86: 0 | N86: =J86-K86-L86-M86-O86 -> 30331441 | O86: 0 | P86: =J86/H86 -> 11327 | Q86: =Приложение2!K276 -> 11327 | R86: 2028 | S86: 1
A87: =A86+1 -> 8 | B87: 6455 | C87: г. Северск, ул. Транспортная, д. 22 | D87: 1974 | E87: К | F87: СМР | G87: 4312 | H87: 2656.7 | I87: 102 | J87: =Приложение2!I279 -> 30092441 | K87: 0 | L87: 0 | M87: 0 | N87: =J87-K87-L87-M87-O87 -> 30092441 | O87: 0 | P87: =J87/H87 -> 11327 | Q87: =Приложение2!K279 -> 11327 | R87: 2028 | S87: 1
A88: =A87+1 -> 9 | B88: 6456 | C88: г. Северск, ул. Транспортная, д. 24 | D88: 1974 | E88: К | F88: СМР | G88: 4410 | H88: 2692.3 | I88: 102 | J88: =Приложение2!I282 -> 30495682 | K88: 0 | L88: 0 | M88: 0 | N88: =J88-K88-L88-M88-O88 -> 30495682 | O88: 0 | P88: =J88/H88 -> 11327 | Q88: =Приложение2!K282 -> 11327 | R88: 2028 | S88: 1
A89: =A88+1 -> 10 | B89: 6457 | C89: г. Северск, ул. Транспортная, д. 26 | D89: 1974 | E89: К | F89: СМР | G89: 4111 | H89: 2686.9 | I89: 102 | J89: =Приложение2!I285 -> 30434516 | K89: 0 | L89: 0 | M89: 0 | N89: =J89-K89-L89-M89-O89 -> 30434516 | O89: 0 | P89: =J89/H89 -> 11327 | Q89: =Приложение2!K285 -> 11327 | R89: 2028 | S89: 1
A90: =A89+1 -> 11 | B90: 6466 | C90: г. Северск, ул. Транспортная, д. 66 | D90: 1955 | E90: К НОК | F90: СМР | G90: 897 | H90: 520 | I90: 20 | J90: =Приложение2!I288 -> 23977200 | K90: 0 | L90: 0 | M90: 0 | N90: =J90-K90-L90-M90-O90 -> 23977200 | O90: 0 | P90: =J90/H90 -> 46110 | Q90: =Приложение2!K288 -> 46110 | R90: 2028 | S90: 1
A91: =A90+1 -> 12 | B91: 6467 | C91: г. Северск, ул. Транспортная, д. 70 | D91: 1955 | E91: К НОК | F91: СМР | G91: 899 | H91: 520.9 | I91: 21 | J91: =Приложение2!I293 -> 24018699 | K91: 0 | L91: 0 | M91: 0 | N91: =J91-K91-L91-M91-O91 -> 24018699 | O91: 0 | P91: =J91/H91 -> 46110 | Q91: =Приложение2!K293 -> 46110 | R91: 2028 | S91: 1
A92: =A91+1 -> 13 | B92: 6468 | C92: г. Северск, ул. Транспортная, д. 72 | D92: 1955 | E92: К НОК | F92: СМР | G92: 891.8 | H92: 516.5 | I92: 21 | J92: =Приложение2!I298 -> 23815815 | K92: 0 | L92: 0 | M92: 0 | N92: =J92-K92-L92-M92-O92 -> 23815815 | O92: 0 | P92: =J92/H92 -> 46110 | Q92: =Приложение2!K298 -> 46110 | R92: 2028 | S92: 1
A93: =A92+1 -> 14 | B93: 6628 | C93: п. Самусь, ул. Кирова, д. 5 | D93: 1928 | E93: К НОК | F93: СМР | G93: 451.7 | H93: 397.5 | I93: 15 | J93: =Приложение2!I303 -> 18328725 | K93: 0 | L93: 0 | M93: 0 | N93: =J93-K93-L93-M93-O93 -> 18328725 | O93: 0 | P93: =J93/H93 -> 46110 | Q93: =Приложение2!K303 -> 46110 | R93: 2028 | S93: 1
A95: <1> | B95: выбирается из списка: ЭС - ремонт внутридомовых инженерных систем электроснабжения; ГС - ремонт внутридомовых инженерных систем газоснабжения; ТС - ремонт внутридомовых инженерных систем теплоснабжения; ВО - ремонт внутридомовых инженерных систем водоотведения; ЛО - ремонт или замена лифтового оборудования, признанного непригодным для эксплуатации, ремонт лифтовых шахт; К - ремонт крыш/переустройство невентилируемой крыши на вентилируемую крышу/устройство выходов на кровлю; ПП - ремонт подвальных помещений, относящихся к общему имуществу в многоквартирных домах; РУФ - утепление и (или) ремонт фасадов; Ф - ремонт фундаментов; ГВС - ремонт внутридомовых инженерных систем горячего водоснабжения; ХВС - ремонт внутридомовых инженерных систем холодного водоснабжения; ПУ, УУ - установка коллективных (общедомовых) приборов учета потребления ресурсов необходимых для предоставления коммунальных услуг, и (или) узлов управления и регулирования потребления этих ресурсов (тепловой энергии, горячей и холодной воды, газа); НОК - ремонт и усиление несущих и ограждающих ненесущих конструкций, не отнесенные в соответствии с законодательством о градостроительной деятельности к реконструкции объектов капитального строительства; НОКр - замена и (или) восстановление несущих строительных конструкций многоквартирного дома и (или) инженерных сетей многоквартирного дома, отнесенные в соответствии с законодательством о градостроительной деятельности к реконструкции объектов капитального строительства; П - устройство, ремонт пандусов и иные работы по приспособлению общего имущества в многоквартирном доме в целях обеспечения его доступности для инвалидов и других маломобильных групп населения;
A96: <2> | B96: выбирается из списка: ПСД, СМР - разработка проектно-сметной документации, включая проведение проверки достоверности определения сметной стоимости и выполнение работ по капитальному ремонту и осуществлению строительного контроля; ПСД, СМР (н) - разработка проектно-сметной документации, включая проведение проверки достоверности определения сметной стоимости и начало работ по капитальному ремонту; СМР (з) - завершение работ по капитальному ремонту и осуществление строительного контроля; ПСД - разработка проектно-сметной документации, включая проведение проверки достоверности определения сметной стоимости; СМР - выполнение работ по капитальному ремонту и осуществление строительного контроля;
A97: <3> | B97: выбирается из списка: 1 - счет регионального оператора; 2 - специальный счет, владельцем которого является региональный оператор; 3 - специальный счет, владельцем которого является управляющая компания; 4 - специальный счет, владельцем которого является товарищество собственников жилья; 5 - специальный счет, владельцем которого является жилищный кооператив; 6 - специальный счет, владельцем которого является лицо, не указанное в кодах 2 - 5;
A98: МКД - многоквартирный дом;
A99: Фонд - государственная корпорация - Фонд содействия реформированию жилищно-коммунального хозяйства."

Sheet Приложение2
I1: Приложение 2
I2: к постановлению
I3: Администрации ЗАТО Северск
I4: от _23.12.2025_№ _3081-па__
I6: "УТВЕРЖДЕН
I8: постановлением
I9: Администрации ЗАТО Северск
I10: от 16.08.2024 № 2779-па
A14: ПЕРЕЧЕНЬ
A15: работ и услуг по капитальному ремонту общего имущества в многоквартирных домах ЗАТО Северск, включенных в краткосрочный план реализации в 2026 - 2028 годах Региональной программы капитального ремонта
A16: общего имущества в многоквартирных домах, расположенных на территории Томской области
A18: № п/п | B18: Код МКД | C18: Адрес МКД | D18: Площадь помещений МКД, кв.м | E18: Материал стен <1> | F18: Количе-ство этажей | G18: Вид элемента строительных конструкций, оборудования, инженерных систем | H18: Вид работы (услуги) по капитальному ремонту | I18: Стоимость работы (услуги), руб. | J18: Удельная стоимость работы (услуги), руб./кв.м | K18: Предельная стоимость работы (услуги), руб./кв.м
A19: 1 | B19: =A19+1 -> 2 | C19: =B19+1 -> 3 | D19: =C19+1 -> 4 | E19: =D19+1 -> 5 | F19: =E19+1 -> 6 | G19: =F19+1 -> 7 | H19: =G19+1 -> 8 | I19: =H19+1 -> 9 | ... K19: =J19+1 -> 11
A20: Всего по городскому округу ЗАТО Северск | D20: =D22+D117+D243 -> 237304.48 | I20: =I22+I117+I243 -> 9.2661888e+08
A21: 2026 год
A22: Итого по городскому округу ЗАТО Северск | D22: =D23+D26+D33+D37+D44+D46+D50+D54+D56+D58+D62+D67+D71+D73+D75+D77+D82+D91+D94+D99+D103+D107+D110+D113 -> 98072.5 | I22: =I23+I26+I33+I37+I44+I46+I50+I54+I56+I58+I62+I67+I71+I73+I75+I77+I82+I91+I94+I99+I103+I107+I110+I113 -> 2.0182399e+08
A23: 1 | B23: 6042 | C23: г. Северск, пр-кт Коммунистический, д. 117 | D23: 2601 | E23: К | F23: 9 | H23: Итого | I23: =SUM(I24:I25) -> 10557459 | J23: =SUM(J24:J25) -> 4059 | K23: =SUM(K24:K25) -> 4059
G24: крыша | H24: ремонт | I24: =D23*K24 -> 10336374 | J24: =I24/D23 -> 3974 | K24: 3974
H25: строительный контроль | I25: =D23*K25 -> 221085 | J25: =I25/D23 -> 85 | K25: 85
A26: =A23+1 -> 2 | B26: 6064 | C26: г. Северск, пр-кт Коммунистический, д. 161 | D26: 18135.1 | E26: К | F26: 9 | H26: Итого | I26: =SUM(I27:I32) -> 10658254 | J26: =SUM(J27:J32) -> 587.71 | K26: =SUM(K27:K32) -> 587.71
G27: лифтовое оборудование (подъезд № 3) | H27: замена | I27: 5145756 | J27: =I27/D26-0.01 -> 283.74 | K27: =5145756/D26-0.01 -> 283.74
H28: строительный контроль | I28: 110119 | J28: =I28/D26 -> 6.07 | K28: =110119/D26 -> 6.07
G29: лифтовое оборудование (подъезд № 4) | H29: замена | I29: 5145756 | J29: =I29/D26 -> 283.75 | K29: =5145756/D26 -> 283.75
H30: строительный контроль | I30: 110119 | J30: =I30/D26 -> 6.07 | K30: =110119/D26 -> 6.07
G31: лифтовое оборудование (подъезд № 1) | H31: разработка проектной документации, включая проведение проверки достоверности определения сметной стоимости | I31: =61252+12000 -> 73252 | J31: =I31/D26 -> 4.04 | K31: =(61252+12000)/D26 -> 4.04
G32: лифтовое оборудование (подъезд № 2) | H32: разработка проектной документации, включая проведение проверки достоверности определения сметной стоимости | I32: =61252+12000 -> 73252 | J32: =I32/D26 -> 4.04 | K32: =(61252+12000)/D26 -> 4.04
A33: 3 | B33: 5839 | C33: г. Северск, ул. 40 лет Октября, д. 14 | D33: 1239.1 | E33: К | F33: 4 | H33: Итого | I33: =SUM(I34:I36) -> 776915.7 | J33: =SUM(J34:J36) -> 627 | K33: =SUM(K34:K36) -> 627
G34: внутридомовая инженерная система теплоснабжения | H34: разработка проектной документации, включая проведение проверки достоверности определения сметной стоимости | I34: =D33*K34 -> 602202.6 | J34: =I34/D33 -> 486 | K34: =459+27 -> 486
G35: внутридомовая инженерная система холодного водоснабжения | H35: разработка проектной документации, включая проведение проверки достоверности определения сметной стоимости | I35: =D33*K35 -> 49564 | J35: =I35/D33 -> 40 | K35: =30+10 -> 40
G36: внутридомовая инженерная система горячего водоснабжения | H36: разработка проектной документации, включая проведение проверки достоверности определения сметной стоимости | I36: =D33*K36 -> 125149.1 | J36: =I36/D33 -> 101 | K36: =92+9 -> 101
A37: =A33+1 -> 4 | B37: 5863 | C37: г. Северск, ул. Калинина, д. 2 | D37: 2020.2 | E37: К | F37: 4 | H37: Итого | I37: =SUM(I38:I43) -> 23260583 | J37: =SUM(J38:J43) -> 11514 | K37: =SUM(K38:K43) -> 11514
G38: внутридомовая инженерная система теплоснабжения | H38: ремонт | I38: =D37*K38 -> 16599983 | J38: =I38/D37 -> 8217 | K38: 8217
H39: строительный контроль | I39: =D37*K39 -> 355555.2 | J39: =I39/D37 -> 176 | K39: 176
G40: внутридомовая инженерная система холодного водоснабжения | H40: ремонт | I40: =D37*K40 -> 1535352 | J40: =I40/D37 -> 760 | K40: 760
H41: строительный контроль | I41: =D37*K41 -> 32323.2 | J41: =I41/D37 -> 16 | K41: 16
G42: внутридомовая инженерная система горячего водоснабжения | H42: ремонт | I42: =D37*K42 -> 4638379.2 | J42: =I42/D37 -> 2296 | K42: 2296
H43: строительный контроль | I43: =D37*K43 -> 98989.8 | J43: =I43/D37 -> 49 | K43: 49
A44: =A37+1 -> 5 | B44: 5870 | C44: г. Северск, ул. Калинина, д. 18 | D44: 2339.2 | E44: К | F44: 4 | H44: Итого | I44: =SUM(I45:I45) -> 1136851.2 | J44: =SUM(J45:J45) -> 486 | K44: =SUM(K45:K45) -> 486
G45: крыша | H45: разработка проектной документации, включая проведение проверки достоверности определения сметной стоимости (ремонт) | I45: =D44*K45 -> 1136851.2 | J45: =I45/D44 -> 486 | K45: =376+110 -> 486
A46: =A44+1 -> 6 | B46: 5900 | C46: г. Северск, ул. Калинина, д. 64 | D46: 4773.5 | E46: К | F46: 5 | H46: Итого | I46: =SUM(I47:I49) -> 1637310.5 | J46: =SUM(J47:J49) -> 343 | K46: =SUM(K47:K49) -> 343
G47: внутридомовая инженерная система теплоснабжения | H47: разработка проектной документации, включая проведение проверки достоверности определения сметной стоимости | I47: =D46*K47 -> 964247 | J47: =I47/D46 -> 202 | K47: =194+8 -> 202
G48: внутридомовая инженерная система холодного водоснабжения | H48: разработка проектной документации, включая проведение проверки достоверности определения сметной стоимости | I48: =D46*K48 -> 190940 | J48: =I48/D46 -> 40 | K48: =30+10 -> 40
G49: внутридомовая инженерная система горячего водоснабжения | H49: разработка проектной документации, включая проведение проверки достоверности определения сметной стоимости | I49: =D46*K49 -> 482123.5 | J49: =I49/D46 -> 101 | K49: =92+9 -> 101
A50: =A46+1 -> 7 | B50: 5901 | C50: г. Северск, ул. Калинина, д. 66 | D50: 2557.1 | E50: П | F50: 5 | H50: Итого | I50: =SUM(I51:I53) -> 1603301.7 | J50: =SUM(J51:J53) -> 627 | K50: =SUM(K51:K53) -> 627
G51: внутридомовая инженерная система теплоснабжения | H51: разработка проектной документации, включая проведение проверки достоверности определения сметной стоимости | I51: =D50*K51 -> 1242750.6 | J51: =I51/D50 -> 486 | K51: =459+27 -> 486
G52: внутридомовая инженерная система холодного водоснабжения | H52: разработка проектной документации, включая проведение проверки достоверности определения сметной стоимости | I52: =D50*K52 -> 102284 | J52: =I52/D50 -> 40 | K52: =30+10 -> 40
G53: внутридомовая инженерная система горячего водоснабжения | H53: разработка проектной документации, включая проведение проверки достоверности определения сметной стоимости | I53: =D50*K53 -> 258267.1 | J53: =I53/D50 -> 101 | K53: =92+9 -> 101
A54: =A50+1 -> 8 | B54: 5903 | C54: г. Северск, ул. Калинина, д. 70 | D54: 2682.4 | E54: П | F54: 5 | H54: Итого | I54: =SUM(I55:I55) -> 1300964 | J54: =SUM(J55:J55) -> 485 | K54: =SUM(K55:K55) -> 485
G55: крыша | H55: разработка проектной документации, включая проведение проверки достоверности определения сметной стоимости (переустройство невентилируемой крыши на вентилируемую крышу) | I55: =D54*K55 -> 1300964 | J55: =I55/D54 -> 485 | K55: =444+41 -> 485
A56: =A54+1 -> 9 | B56: 5906 | C56: г. Северск, ул. Калинина, д. 74 | D56: 2667.3 | E56: П | F56: 5 | H56: Итого | I56: =SUM(I57:I57) -> 1293640.5 | J56: =SUM(J57:J57) -> 485 | K56: =SUM(K57:K57) -> 485
G57: крыша | H57: разработка проектной документации, включая проведение проверки достоверности определения сметной стоимости (переустройство невентилируемой крыши на вентилируемую крышу) | I57: =D56*K57 -> 1293640.5 | J57: =I57/D56 -> 485 | K57: =444+41 -> 485
A58: =A56+1 -> 10 | B58: 5915 | C58: г. Северск, ул. Калинина, д. 85 | D58: 3878 | E58: П | F58: 5 | H58: Итого | I58: =SUM(I59:I61) -> 1330154 | J58: =SUM(J59:J61) -> 343 | K58: =SUM(K59:K61) -> 343
G59: внутридомовая инженерная система теплоснабжения | H59: разработка проектной документации, включая проведение проверки достоверности определения сметной стоимости | I59: =D58*K59 -> 783356 | J59: =I59/D58 -> 202 | K59: =194+8 -> 202
G60: внутридомовая инженерная система холодного водоснабжения | H60: разработка проектной документации, включая проведение проверки достоверности определения сметной стоимости | I60: =D58*K60 -> 155120 | J60: =I60/D58 -> 40 | K60: =30+10 -> 40
G61: внутридомовая инженерная система горячего водоснабжения | H61: разработка проектной документации, включая проведение проверки достоверности определения сметной стоимости | I61: =D58*K61 -> 391678 | J61: =I61/D58 -> 101 | K61: =92+9 -> 101
A62: =A58+1 -> 11 | B62: 6119 | C62: г. Северск, ул. Курчатова, д. 11 | D62: 2274.5 | E62: К | F62: 9 | H62: Итого | I62: =SUM(I63:I66) -> 14488070 | J62: =SUM(J63:J66) -> 6369.78 | K62: =SUM(K63:K66) -> 6369.78
G63: лифтовое оборудование (подъезд № 1) | H63: замена | I63: 5145756 | J63: =I63/D62 -> 2262.37 | K63: =5145756/D62 -> 2262.37
H64: строительный контроль | I64: 110119 | J64: =I64/D62 -> 48.41 | K64: =110119/D62 -> 48.41
G65: крыша | H65: ремонт | I65: =D62*K65 -> 9038863 | J65: =I65/D62 -> 3974 | K65: 3974
H66: строительный контроль | I66: =D62*K66 -> 193332.5 | J66: =I66/D62 -> 85 | K66: 85
A67: =A62+1 -> 12 | B67: 6121 | C67: г. Северск, ул. Курчатова, д. 15 | D67: 2561.5 | E67: К | F67: 9 | H67: Итого | I67: =SUM(I68:I70) -> 10470380 | J67: =SUM(J68:J70) -> 4087.6 | K67: =SUM(K68:K70) -> 4087.6
G68: лифтовое оборудование (подъезд № 1) | H68: разработка проектной документации, включая проведение проверки достоверности определения сметной стоимости | I68: =61252+12000 -> 73252 | J68: =I68/D67 -> 28.6 | K68: =(61252+12000)/D67 -> 28.6
G69: крыша | H69: ремонт | I69: =D67*K69 -> 10179401 | J69: =I69/D67 -> 3974 | K69: 3974
H70: строительный контроль | I70: =D67*K70 -> 217727.5 | J70: =I70/D67 -> 85 | K70: 85
A71: =A67+1 -> 13 | B71: 6128 | C71: г. Северск, ул. Курчатова, д. 26 | D71: 1899.3 | E71: К | F71: 9 | H71: Итого | I71: =I72 -> 73252 | J71: =J72 -> 38.57 | K71: =K72 -> 38.57
G72: лифтовое оборудование (подъезд № 1) | H72: разработка проектной документации, включая проведение проверки достоверности определения сметной стоимости | I72: =61252+12000 -> 73252 | J72: =I72/D71 -> 38.57 | K72: =(61252+12000)/D71 -> 38.57
A73: =A71+1 -> 14 | B73: 6135 | C73: г. Северск, ул. Курчатова, д. 38 | D73: 2687.8 | E73: П | F73: 5 | H73: Итого | I73: =SUM(I74:I74) -> 1303583 | J73: =SUM(J74:J74) -> 485 | K73: =SUM(K74:K74) -> 485
G74: крыша | H74: разработка проектной документации, включая проведение проверки достоверности определения сметной стоимости (переустройство невентилируемой крыши на вентилируемую крышу) | I74: =D73*K74 -> 1303583 | J74: =I74/D73 -> 485 | K74: =444+41 -> 485
A75: =A73+1 -> 15 | B75: 6156 | C75: г. Северск, ул. Ленина, д. 44 | D75: 3654.5 | E75: К | F75: 5 | H75: Итого | I75: =SUM(I76:I76) -> 895352.5 | J75: =SUM(J76:J76) -> 245 | K75: =SUM(K76:K76) -> 245
G76: крыша | H76: разработка проектной документации, включая проведение проверки достоверности определения сметной стоимости (ремонт) | I76: =D75*K76 -> 895352.5 | J76: =I76/D75 -> 245 | K76: =223+22 -> 245
A77: =A75+1 -> 16 | B77: 6238 | C77: г. Северск, ул. Мира, д. 3 | D77: 888.3 | E77: Д | F77: 2 | H77: Итого | I77: =SUM(I78:I81) -> 40959513 | J77: =SUM(J78:J81) -> 46110 | K77: =SUM(K78:K81) -> 46110
G78: крыша | H78: ремонт | I78: =D77*K78 -> 20962992 | J78: =I78/D77 -> 23599 | K78: 23599
H79: строительный контроль | I79: =D77*K79 -> 448591.5 | J79: =I79/D77 -> 505 | K79: 505
G80: несущие и ограждающие ненесущие конструкции, не отнесенные в соответствии с законодательством о градостроительной деятельности к реконструкции объектов капитального строительства | H80: ремонт | I80: =D77*K80 -> 19138424 | J80: =I80/D77 -> 21545 | K80: 21545
H81: строительный контроль | I81: =D77*K81 -> 409506.3 | J81: =I81/D77 -> 461 | K81: 461
A82: =A77+1 -> 17 | B82: 6326 | C82: г. Северск, ул. Победы, д. 19 | D82: 9983.1 | E82: П | F82: 9 | H82: Итого | I82: =SUM(I83:I90) -> 21023500 | J82: =SUM(J83:J90) -> 2105.91 | K82: =SUM(K83:K90) -> 2126.99
G83: лифтовое оборудование (подъезд № 1) | H83: замена | I83: 5145756 | J83: =I83/D82-0.01 -> 515.44 | K83: =5145756/D82-0.01 -> 515.44
H84: строительный контроль | I84: 110119 | J84: =I84/D82 -> 11.03 | K84: =110119/6753.7 -> 16.3
G85: лифтовое оборудование (подъезд № 2) | H85: замена | I85: 5145756 | J85: =I85/D82 -> 515.45 | K85: =5145756/D82 -> 515.45
H86: строительный контроль | I86: 110119 | J86: =I86/D82 -> 11.03 | K86: =110119/6753.7 -> 16.3
G87: лифтовое оборудование (подъезд № 3) | H87: замена | I87: 5145756 | J87: =I87/D82 -> 515.45 | K87: =5145756/D82 -> 515.45
H88: строительный контроль | I88: 110119 | J88: =I88/D82 -> 11.03 | K88: =110119/6753.7 -> 16.3
G89: лифтовое оборудование (подъезд № 4) | H89: замена | I89: 5145756 | J89: =I89/D82 -> 515.45 | K89: =5145756/D82 -> 515.45
H90: строительный контроль | I90: 110119 | J90: =I90/D82 -> 11.03 | K90: =110119/6753.7 -> 16.3
A91: =A82+1 -> 18 | B91: 6333 | C91: г. Северск, ул. Победы, д. 31 | D91: 4930.1 | E91: К | F91: 12 | H91: Итого | I91: =SUM(I92:I93) -> 146504 | J91: =SUM(J92:J93) -> 29.72 | K91: =SUM(K92:K93) -> 29.72
G92: лифтовое оборудование (подъезд № 1) | H92: разработка проектной документации, включая проведение проверки достоверности определения сметной стоимости | I92: =61252+12000 -> 73252 | J92: =I92/D91 -> 14.86 | K92: =(61252+12000)/D91 -> 14.86
G93: лифтовое оборудование (подъезд № 1) | H93: разработка проектной документации, включая проведение проверки достоверности определения сметной стоимости | I93: =61252+12000 -> 73252 | J93: =I93/D91 -> 14.86 | K93: =(61252+12000)/D91 -> 14.86
A94: =A91+1 -> 19 | B94: 6338 | C94: г. Северск, ул. Победы, д. 39 | D94: 10696.7 | E94: К | F94: 10 | H94: Итого | I94: =SUM(I95:I98) -> 11578672 | J94: =SUM(J95:J98) -> 1082.45 | K94: =SUM(K95:K98) -> 1082.45
G95: лифтовое оборудование (подъезд № 1) | H95: замена | I95: 5668040 | J95: =I95/D94-0.01 -> 529.88 | K95: =5668040/D94-0.01 -> 529.88
H96: строительный контроль | I96: 121296 | J96: =I96/D94 -> 11.34 | K96: =121296/D94 -> 11.34
G97: лифтовое оборудование (подъезд № 2) | H97: замена | I97: 5668040 | J97: =I97/D94 -> 529.89 | K97: =5668040/D94 -> 529.89
H98: строительный контроль | I98: 121296 | J98: =I98/D94 -> 11.34 | K98: =121296/D94 -> 11.34
A99: =A94+1 -> 20 | B99: 6391 | C99: г. Северск, ул. Советская, д. 17 | D99: 2307.3 | E99: К | F99: 4 | H99: Итого | I99: =SUM(I100:I102) -> 1446677.1 | J99: =SUM(J100:J102) -> 627 | K99: =SUM(K100:K102) -> 627
G100: внутридомовая инженерная система теплоснабжения | H100: разработка проектной документации, включая проведение проверки достоверности определения сметной стоимости | I100: =D99*K100 -> 1121347.8 | J100: =I100/D99 -> 486 | K100: =459+27 -> 486
G101: внутридомовая инженерная система холодного водоснабжения | H101: разработка проектной документации, включая проведение проверки достоверности определения сметной стоимости | I101: =D99*K101 -> 92292 | J101: =I101/D99 -> 40 | K101: =30+10 -> 40
G102: внутридомовая инженерная система горячего водоснабжения | H102: разработка проектной документации, включая проведение проверки достоверности определения сметной стоимости | I102: =D99*K102 -> 233037.3 | J102: =I102/D99 -> 101 | K102: =92+9 -> 101
A103: =A99+1 -> 21 | B103: 6393 | C103: г. Северск, ул. Советская, д. 19 | D103: 3135.7 | E103: К | F103: 5 | H103: Итого | I103: =SUM(I104:I106) -> 1075545.1 | J103: =SUM(J104:J106) -> 343 | K103: =SUM(K104:K106) -> 343
G104: внутридомовая инженерная система теплоснабжения | H104: разработка проектной документации, включая проведение проверки достоверности определения сметной стоимости | I104: =D103*K104 -> 633411.4 | J104: =I104/D103 -> 202 | K104: =194+8 -> 202
G105: внутридомовая инженерная система холодного водоснабжения | H105: разработка проектной документации, включая проведение проверки достоверности определения сметной стоимости | I105: =D103*K105 -> 125428 | J105: =I105/D103 -> 40 | K105: =30+10 -> 40
G106: внутридомовая инженерная система горячего водоснабжения | H106: разработка проектной документации, включая проведение проверки достоверности определения сметной стоимости | I106: =D103*K106 -> 316705.7 | J106: =I106/D103 -> 101 | K106: =92+9 -> 101
...
