Workbook

Sheet Приложение1
P1: Приложение 1
P2: к постановлению
P3: Администрации ЗАТО Северск
P4: от _23.12.2025__№ _3081-па__
P6: "УТВЕРЖДЕН
P8: постановлением
P9: Администрации ЗАТО Северск
P10: от 16.08.2024 № 2779-па
A12: ПЕРЕЧЕНЬ
A13: многоквартирных домов ЗАТО Северск, включенных в краткосрочный план реализации в 2026 - 2028 годах Региональной программы капитального ремонта общего имущества в многоквартирных домах,
A14: расположенных на территории Томской области
A16: № п/п | B16: Код МКД | C16: Адрес МКД | D16: Год ввода в эксплуата-цию | E16: Вид элемента строительных конструкций, оборудования, инженерных систем <1> | F16: Вид работы (услуги) по капитальному ремонту <2> | G16: Общая площадь МКД, всего | H16: Площадь помещений в МКД | I16: Количество жителей, зарегистрированных в МКД на дату утверждения краткосрочного плана | J16: Стоимость капитального ремонта | P16: Удельная стоимость капитального ремонта 1 кв.м общей площади помещений МКД | Q16: Предельная стоимость капитального ремонта 1 кв.м общей площади помещений МКД | R16: Плановая дата завершения работ | S16: Способ формирования фонда капитального ремонта многоквартирного дома <3>
J17: всего | K17: в том числе
K18: за счет средств Фонда | L18: за счет средств бюджета субъекта Российской Федерации | M18: за счет средств местного бюджета | N18: за счет средств собственников помещений в МКД | O18: за счет других не запрещенных законом источников
G19: кв.м | H19: кв.м | I19: чел. | J19: руб. | K19: руб. | L19: руб. | M19: руб. | N19: руб. | O19: руб. | P19: руб./кв.м | Q19: руб./кв.м
A20: 1 | B20: =A20+1 -> 2 | C20: =B20+1 -> 3 | D20: =C20+1 -> 4 | E20: =D20+1 -> 5 | F20: =E20+1 -> 6 | G20: =F20+1 -> 7 | H20: =G20+1 -> 8 | I20: =H20+1 -> 9 | ... S20: =R20+1 -> 19
A21: Итого по городскому округу ЗАТО Северск | D21: Х | E21: Х | F21: Х | G21: =G22+G47+G79 -> 323992.15 | H21: =H22+H47+H79 -> 237304.48 | I21: =I22+I47+I79 -> 8675 | J21: =J22+J47+J79 -> 9.2661888e+08 | K21: =K22+K47+K79 -> 0 | L21: =L22+L47+L79 -> 0 | M21: =M22+M47+M79 -> 0 | N21: =N22+N47+N79 -> 9.0748615e+08 | O21: =O22+O47+O79 -> 19132728 | P21: Х | Q21: Х | R21: Х | S21: Х
A22: 2026 год | E22: Х | F22: Х | G22: =SUM(G23:G46) -> 128977.65 | H22: =SUM(H23:H46) -> 98072.5 | I22: =SUM(I23:I46) -> 3442 | J22: =SUM(J23:J46) -> 2.0182399e+08 | K22: =SUM(K23:K46) -> 0 | L22: =SUM(L23:L46) -> 0 | M22: =SUM(M23:M46) -> 0 | N22: =SUM(N23:N46) -> 1.8269126e+08 | O22: =SUM(O23:O46) -> 19132728 | P22: Х | Q22: Х | R22: Х | S22: Х
A23: 1 | B23: 6042 | C23: г. Северск, пр-кт Коммунистический, д. 117 | D23: 1970 | E23: К | F23: СМР | G23: 3337.48 | H23: 2601 | I23: 100 | J23: =Приложение2!I23 -> 10557459 | K23: 0 | L23: 0 | M23: 0 | N23: =J23-K23-L23-M23-O23 -> 9556621.6 | O23: 1000837.4 | P23: =J23/H23 -> 4059 | Q23: =Приложение2!K23 -> 4059 | R23: 2026 | S23: 1
A24: =A23+1 -> 2 | B24: 6064 | C24: г. Северск, пр-кт Коммунистический, д. 161 | D24: 2000 | E24: ЛО | F24: ПСД, СМР | G24: 22476.3 | H24: 18135.1 | I24: 676 | J24: =Приложение2!I26 -> 10658254 | K24: 0 | L24: 0 | M24: 0 | N24: =J24-K24-L24-M24-O24 -> 9647861.3 | O24: 1010392.7 | P24: =J24/H24 -> 587.71 | Q24: =Приложение2!K26 -> 587.71 | R24: 2026 | S24: 1
A25: =A24+1 -> 3 | B25: 5839 | C25: г. Северск, ул. 40 лет Октября, д. 14 | D25: 1960 | E25: ТС ХВС ГВС | F25: ПСД | G25: 2138 | H25: 1239.1 | I25: 47 | J25: =Приложение2!I33 -> 776915.7 | K25: 0 | L25: 0 | M25: 0 | N25: =J25-K25-L25-M25-O25 -> 703264.81 | O25: 73650.89 | P25: =J25/H25 -> 627 | Q25: =Приложение2!K33 -> 627 | R25: 2026 | S25: 1
A26: =A25+1 -> 4 | B26: 5863 | C26: г. Северск, ул. Калинина, д. 2 | D26: 1959 | E26: ТС ХВС ГВС | F26: СМР | G26: 3007.1 | H26: 2020.2 | I26: 76 | J26: =Приложение2!I37 -> 23260583 | K26: 0 | L26: 0 | M26: 0 | N26: =J26-K26-L26-M26-O26 -> 21055501 | O26: 2205081.8 | P26: =J26/H26 -> 11514 | Q26: =Приложение2!K37 -> 11514 | R26: 2026 | S26: 1
A27: =A26+1 -> 5 | B27: 5870 | C27: г. Северск, ул. Калинина, д. 18 | D27: 1957 | E27: К | F27: ПСД | G27: 3421 | H27: 2339.2 | I27: 96 | J27: =Приложение2!I44 -> 1136851.2 | K27: 0 | L27: 0 | M27: 0 | N27: =J27-K27-L27-M27-O27 -> 1029078.8 | O27: 107772.45 | P27: =J27/H27 -> 486 | Q27: =Приложение2!K44 -> 486 | R27: 2026 | S27: 1
A28: =A27+1 -> 6 | B28: 5900 | C28: г. Северск, ул. Калинина, д. 64 | D28: 1967 | E28: ТС ХВС ГВС | F28: ПСД | G28: 7762 | H28: 4773.5 | I28: 180 | J28: =Приложение2!I46 -> 1637310.5 | K28: 0 | L28: 0 | M28: 0 | N28: =J28-K28-L28-M28-O28 -> 1482095 | O28: 155215.53 | P28: =J28/H28 -> 343 | Q28: =Приложение2!K46 -> 343 | R28: 2026 | S28: 1
A29: =A28+1 -> 7 | B29: 5901 | C29: г. Северск, ул. Калинина, д. 66 | D29: 1967 | E29: ТС ХВС ГВС | F29: ПСД | G29: 4053.1 | H29: 2557.1 | I29: 97 | J29: =Приложение2!I50 -> 1603301.7 | K29: 0 | L29: 0 | M29: 0 | N29: =J29-K29-L29-M29-O29 -> 1451310.2 | O29: 151991.53 | P29: =J29/H29 -> 627 | Q29: =Приложение2!K50 -> 627 | R29: 2026 | S29: 1
A30: =A29+1 -> 8 | B30: 5903 | C30: г. Северск, ул. Калинина, д. 70 | D30: 1974 | E30: К | F30: ПСД | G30: 3555.4 | H30: 2682.4 | I30: 101 | J30: =Приложение2!I54 -> 1300964 | K30: 0 | L30: 0 | M30: 0 | N30: =J30-K30-L30-M30-O30 -> 1177633.8 | O30: 123330.19 | P30: =J30/H30 -> 485 | Q30: =Приложение2!K54 -> 485 | R30: 2026 | S30: 1
A31: =A30+1 -> 9 | B31: 5906 | C31: г. Северск, ул. Калинина, д. 74 | D31: 1974 | E31: К | F31: ПСД | G31: 3484.3 | H31: 2667.3 | I31: 101 | J31: =Приложение2!I56 -> 1293640.5 | K31: 0 | L31: 0 | M31: 0 | N31: =J31-K31-L31-M31-O31 -> 1171004.6 | O31: 122635.93 | P31: =J31/H31 -> 485 | Q31: =Приложение2!K56 -> 485 | R31: 2026 | S31: 1
A32: =A31+1 -> 10 | B32: 5915 | C32: г. Северск, ул. Калинина, д. 85 | D32: 1967 | E32: ТС ХВС ГВС | F32: ПСД | G32: 6062.5 | H32: 3878 | I32: 147 | J32: =Приложение2!I58 -> 1330154 | K32: 0 | L32: 0 | M32: 0 | N32: =J32-K32-L32-M32-O32 -> 1204056.6 | O32: 126097.37 | P32: =J32/H32 -> 343 | Q32: =Приложение2!K58 -> 343 | R32: 2026 | S32: 1
A33: =A32+1 -> 11 | B33: 6119 | C33: г. Северск, ул. Курчатова, д. 11 | D33: 1971 | E33: ЛО К | F33: СМР | G33: 3202.62 | H33: 2274.5 | I33: 86 | J33: =Приложение2!I62 -> 14488070 | K33: 0 | L33: 0 | M33: 0 | N33: =J33-K33-L33-M33-O33 -> 13114615 | O33: 1373455.8 | P33: =J33/H33 -> 6369.78 | Q33: =Приложение2!K62 -> 6369.78 | R33: 2026 | S33: 1
A34: =A33+1 -> 12 | B34: 6121 | C34: г. Северск, ул. Курчатова, д. 15 | D34: 1971 | E34: ЛО К | F34: ПСД, СМР | G34: 3203.19 | H34: 2561.5 | I34: 86 | J34: =Приложение2!I67 -> 10470380 | K34: 0 | L34: 0 | M34: 0 | N34: =J34-K34-L34-M34-O34 -> 9477798.1 | O34: 992582.43 | P34: =J34/H34 -> 4087.6 | Q34: =Приложение2!K67 -> 4087.6 | R34: 2026 | S34: 1
A35: =A34+1 -> 13 | B35: 6128 | C35: г. Северск, ул. Курчатова, д. 26 | D35: 1974 | E35: ЛО | F35: ПСД | G35: 2658.6 | H35: 1899.3 | I35: 72 | J35: =Приложение2!I71 -> 73252 | K35: 0 | L35: 0 | M35: 0 | N35: =J35-K35-L35-M35-O35 -> 66307.78 | O35: 6944.22 | P35: =J35/H35 -> 38.57 | Q35: =Приложение2!K71 -> 38.57 | R35: 2026 | S35: 1
A36: =A35+1 -> 14 | B36: 6135 | C36: г. Северск, ул. Курчатова, д. 38 | D36: 1974 | E36: К | F36: ПСД | G36: 3562.8 | H36: 2687.8 | I36: 102 | J36: =Приложение2!I73 -> 1303583 | K36: 0 | L36: 0 | M36: 0 | N36: =J36-K36-L36-M36-O36 -> 1180004.5 | O36: 123578.47 | P36: =J36/H36 -> 485 | Q36: =Приложение2!K73 -> 485 | R36: 2026 | S36: 1
A37: =A36+1 -> 15 | B37: 6156 | C37: г. Северск, ул. Ленина, д. 44 | D37: 1960 | E37: К | F37: ПСД | G37: 4993.5 | H37: 3654.5 | I37: 135 | J37: =Приложение2!I75 -> 895352.5 | K37: 0 | L37: 0 | M37: 0 | N37: =J37-K37-L37-M37-O37 -> 810473.91 | O37: 84878.59 | P37: =J37/H37 -> 245 | Q37: =Приложение2!K75 -> 245 | R37: 2026 | S37: 1
A38: =A37+1 -> 16 | B38: 6238 | C38: г. Северск, ул. Мира, д. 3 | D38: 1953 | E38: К НОК | F38: СМР | G38: 958.5 | H38: 888.3 | I38: 34 | J38: =Приложение2!I77 -> 40959513 | K38: 0 | L38: 0 | M38: 0 | N38: =J38-K38-L38-M38-O38 -> 37076589 | O38: 3882924.1 | P38: =J38/H38 -> 46110 | Q38: =Приложение2!K77 -> 46110 | R38: 2026 | S38: 1
A39: =A38+1 -> 17 | B39: 6326 | C39: г. Северск, ул. Победы, д. 19 | D39: 2001 | E39: ЛО | F39: СМР | G39: 11961.3 | H39: 9983.1 | I39: 255 | J39: =Приложение2!I82 -> 21023500 | K39: 0 | L39: 0 | M39: 0 | N39: =J39-K39-L39-M39-O39 -> 19030492 | O39: 1993008.4 | P39: =J39/H39 -> 2105.91 | Q39: =Приложение2!K82 -> 2126.99 | R39: 2026 | S39: 1
A40: =A39+1 -> 18 | B40: 6333 | C40: г. Северск, ул. Победы, д. 31 | D40: 2002 | E40: ЛО | F40: ПСД | G40: 5132.2 | H40: 4930.1 | I40: 136 | J40: =Приложение2!I91 -> 146504 | K40: 0 | L40: 0 | M40: 0 | N40: =J40-K40-L40-M40-O40 -> 132615.56 | O40: 13888.44 | P40: =J40/H40 -> 29.72 | Q40: =Приложение2!K91 -> 29.72 | R40: 2026 | S40: 1
A41: =A40+1 -> 19 | B41: 6338 | C41: г. Северск, ул. Победы, д. 39 | D41: 2001 | E41: ЛО | F41: СМР | G41: 11729.2 | H41: 10696.7 | I41: 325 | J41: =Приложение2!I94 -> 11578672 | K41: 0 | L41: 0 | M41: 0 | N41: =J41-K41-L41-M41-O41 -> 10481025 | O41: 1097647.4 | P41: =J41/H41 -> 1082.45 | Q41: =Приложение2!K94 -> 1082.45 | R41: 2026 | S41: 1
A42: =A41+1 -> 20 | B42: 6391 | C42: г. Северск, ул. Советская, д. 17 | D42: 1958 | E42: ТС ХВС ГВС | F42: ПСД | G42: 4179 | H42: 2307.3 | I42: 87 | J42: =Приложение2!I99 -> 1446677.1 | K42: 0 | L42: 0 | M42: 0 | N42: =J42-K42-L42-M42-O42 -> 1309533.4 | O42: 137143.66 | P42: =J42/H42 -> 627 | Q42: =Приложение2!K99 -> 627 | R42: 2026 | S42: 1
A43: =A42+1 -> 21 | B43: 6393 | C43: г. Северск, ул. Советская, д. 19 | D43: 1960 | E43: ТС ХВС ГВС | F43: ПСД | G43: 4953 | H43: 3135.7 | I43: 118 | J43: =Приложение2!I103 -> 1075545.1 | K43: 0 | L43: 0 | M43: 0 | N43: =J43-K43-L43-M43-O43 -> 973584.41 | O43: 101960.69 | P43: =J43/H43 -> 343 | Q43: =Приложение2!K103 -> 343 | R43: 2026 | S43: 1
A44: =A43+1 -> 22 | B44: 6411 | C44: г. Северск, ул. Солнечная, д. 11 | D44: 1972, 1973 | E44: ЛО | F44: СМР | G44: 9922.16 | H44: 7410.6 | I44: 275 | J44: =Приложение2!I107 -> 5255875 | K44: 0 | L44: 0 | M44: 0 | N44: =J44-K44-L44-M44-O44 -> 4757622.9 | O44: 498252.11 | P44: =J44/H44 -> 709.24 | Q44: =Приложение2!K107 -> 709.24 | R44: 2026 | S44: 1
...

Sheet Приложение2
I1: Приложение 2
I2: к постановлению
I3: Администрации ЗАТО Северск
I4: от _23.12.2025_№ _3081-па__
I6: "УТВЕРЖДЕН
I8: постановлением
I9: Администрации ЗАТО Северск
I10: от 16.08.2024 № 2779-па
A14: ПЕРЕЧЕНЬ
A15: работ и услуг по капитальному ремонту общего имущества в многоквартирных домах ЗАТО Северск, включенных в краткосрочный план реализации в 2026 - 2028 годах Региональной программы капитального ремонта
A16: общего имущества в многоквартирных домах, расположенных на территории Томской области
A18: № п/п | B18: Код МКД | C18: Адрес МКД | D18: Площадь помещений МКД, кв.м | E18: Материал стен <1> | F18: Количе-ство этажей | G18: Вид элемента строительных конструкций, оборудования, инженерных систем | H18: Вид работы (услуги) по капитальному ремонту | I18: Стоимость работы (услуги), руб. | J18: Удельная стоимость работы (услуги), руб./кв.м | K18: Предельная стоимость работы (услуги), руб./кв.м
A19: 1 | B19: =A19+1 -> 2 | C19: =B19+1 -> 3 | D19: =C19+1 -> 4 | E19: =D19+1 -> 5 | F19: =E19+1 -> 6 | G19: =F19+1 -> 7 | H19: =G19+1 -> 8 | I19: =H19+1 -> 9 | ... K19: =J19+1 -> 11
A20: Всего по городскому округу ЗАТО Северск | D20: =D22+D117+D243 -> 237304.48 | I20: =I22+I117+I243 -> 9.2661888e+08
A21: 2026 год
A22: Итого по городскому округу ЗАТО Северск | D22: =D23+D26+D33+D37+D44+D46+D50+D54+D56+D58+D62+D67+D71+D73+D75+D77+D82+D91+D94+D99+D103+D107+D110+D113 -> 98072.5 | I22: =I23+I26+I33+I37+I44+I46+I50+I54+I56+I58+I62+I67+I71+I73+I75+I77+I82+I91+I94+I99+I103+I107+I110+I113 -> 2.0182399e+08
A23: 1 | B23: 6042 | C23: г. Северск, пр-кт Коммунистический, д. 117 | D23: 2601 | E23: К | F23: 9 | H23: Итого | I23: =SUM(I24:I25) -> 10557459 | J23: =SUM(J24:J25) -> 4059 | K23: =SUM(K24:K25) -> 4059
G24: крыша | H24: ремонт | I24: =D23*K24 -> 10336374 | J24: =I24/D23 -> 3974 | K24: 3974
H25: строительный контроль | I25: =D23*K25 -> 221085 | J25: =I25/D23 -> 85 | K25: 85
A26: =A23+1 -> 2 | B26: 6064 | C26: г. Северск, пр-кт Коммунистический, д. 161 | D26: 18135.1 | E26: К | F26: 9 | H26: Итого | I26: =SUM(I27:I32) -> 10658254 | J26: =SUM(J27:J32) -> 587.71 | K26: =SUM(K27:K32) -> 587.71
G27: лифтовое оборудование (подъезд № 3) | H27: замена | I27: 5145756 | J27: =I27/D26-0.01 -> 283.74 | K27: =5145756/D26-0.01 -> 283.74
H28: строительный контроль | I28: 110119 | J28: =I28/D26 -> 6.07 | K28: =110119/D26 -> 6.07
G29: лифтовое оборудование (подъезд № 4) | H29: замена | I29: 5145756 | J29: =I29/D26 -> 283.75 | K29: =5145756/D26 -> 283.75
H30: строительный контроль | I30: 110119 | J30: =I30/D26 -> 6.07 | K30: =110119/D26 -> 6.07
G31: лифтовое оборудование (подъезд № 1) | H31: разработка проектной документации, включая проведение проверки достоверности определения сметной стоимости | I31: =61252+12000 -> 73252 | J31: =I31/D26 -> 4.04 | K31: =(61252+12000)/D26 -> 4.04
G32: лифтовое оборудование (подъезд № 2) | H32: разработка проектной документации, включая проведение проверки достоверности определения сметной стоимости | I32: =61252+12000 -> 73252 | J32: =I32/D26 -> 4.04 | K32: =(61252+12000)/D26 -> 4.04
A33: 3 | B33: 5839 | C33: г. Северск, ул. 40 лет Октября, д. 14 | D33: 1239.1 | E33: К | F33: 4 | H33: Итого | I33: =SUM(I34:I36) -> 776915.7 | J33: =SUM(J34:J36) -> 627 | K33: =SUM(K34:K36) -> 627
G34: внутридомовая инженерная система теплоснабжения | H34: разработка проектной документации, включая проведение проверки достоверности определения сметной стоимости | I34: =D33*K34 -> 602202.6 | J34: =I34/D33 -> 486 | K34: =459+27 -> 486
G35: внутридомовая инженерная система холодного водоснабжения | H35: разработка проектной документации, включая проведение проверки достоверности определения сметной стоимости | I35: =D33*K35 -> 49564 | J35: =I35/D33 -> 40 | K35: =30+10 -> 40
G36: внутридомовая инженерная система горячего водоснабжения | H36: разработка проектной документации, включая проведение проверки достоверности определения сметной стоимости | I36: =D33*K36 -> 125149.1 | J36: =I36/D33 -> 101 | K36: =92+9 -> 101
A37: =A33+1 -> 4 | B37: 5863 | C37: г. Северск, ул. Калинина, д. 2 | D37: 2020.2 | E37: К | F37: 4 | H37: Итого | I37: =SUM(I38:I43) -> 23260583 | J37: =SUM(J38:J43) -> 11514 | K37: =SUM(K38:K43) -> 11514
G38: внутридомовая инженерная система теплоснабжения | H38: ремонт | I38: =D37*K38 -> 16599983 | J38: =I38/D37 -> 8217 | K38: 8217
H39: строительный контроль | I39: =D37*K39 -> 355555.2 | J39: =I39/D37 -> 176 | K39: 176
G40: внутридомовая инженерная система холодного водоснабжения | H40: ремонт | I40: =D37*K40 -> 1535352 | J40: =I40/D37 -> 760 | K40: 760
H41: строительный контроль | I41: =D37*K41 -> 32323.2 | J41: =I41/D37 -> 16 | K41: 16
G42: внутридомовая инженерная система горячего водоснабжения | H42: ремонт | I42: =D37*K42 -> 4638379.2 | J42: =I42/D37 -> 2296 | K42: 2296
H43: строительный контроль | I43: =D37*K43 -> 98989.8 | J43: =I43/D37 -> 49 | K43: 49
A44: =A37+1 -> 5 | B44: 5870 | C44: г. Северск, ул. Калинина, д. 18 | D44: 2339.2 | E44: К | F44: 4 | H44: Итого | I44: =SUM(I45:I45) -> 1136851.2 | J44: =SUM(J45:J45) -> 486 | K44: =SUM(K45:K45) -> 486
G45: крыша | H45: разработка проектной документации, включая проведение проверки достоверности определения сметной стоимости (ремонт) | I45: =D44*K45 -> 1136851.2 | J45: =I45/D44 -> 486 | K45: =376+110 -> 486
A46: =A44+1 -> 6 | B46: 5900 | C46: г. Северск, ул. Калинина, д. 64 | D46: 4773.5 | E46: К | F46: 5 | H46: Итого | I46: =SUM(I47:I49) -> 1637310.5 | J46: =SUM(J47:J49) -> 343 | K46: =SUM(K47:K49) -> 343
...
